Workbook

Sheet Ing-Diciembre
B2: E.S.E METROSALUD
B4: EJECUCION PRESUPUESTAL DE INGRESOS | D4: EJECUCION PRESUPUESTAL DE GASTOS
B6: 31 DE DICIEMBRE DE 2023
B9: Rubro | C9: Detalle Rubro | D9: Presupuesto Inicial | E9: Modificaciones | J9: Presupuesto Definitivo | K9: Cuentas por Cobrar | L9: Recaudo | O9: Reconocido | Q9: Saldo por Recaudar | R9: % Ejecucion
E10: Adiciones | F10: Reduc-ciones | G10: - Débitos | H10: + Créditos | I10: Total Modifi-caciones | K10: Valor | L10: Recaudo | M10: % Ppto Def | N10: % Facturado | O10: Facturación | P10: % | Q10: Valor | R10: %
B11: 1 | C11: INGRESOS | D11: =+D12+D13+D68 -> 369615960685 | E11: =+E12+E13+E68 -> 131431718936 | F11: =+F12+F13+F68 -> 0 | G11: =+G12+G13+G68 -> 0 | H11: =+H12+H13+H68 -> 0 | I11: =+I12+I13+I68 -> 131431718936 | J11: =+J12+J13+J68 -> 501047679621 | K11: =+K12+K13+K68 -> 60342103520 | L11: =+L12+L13+L68 -> 4.2062407e+11 | M11: =+L11/J11 -> 0.83948911 | N11: =+L11/O11 -> 0.88745081 | O11: =+O12+O13+O68 -> 4.7396889e+11 | P11: =+O11/J11 -> 0.94595565 | Q11: =+Q12+Q13+Q68 -> 8.0423609e+10 | R11: =+Q11/J11 -> 0.16051089
B12: 1.0 | C12: Disponibilidad Inicial | D12: 16000000000 | E12: 5628956301 | I12: 5628956301 | J12: 21628956301 | L12: 21628956301 | M12: =+L12/J12 -> 1 | N12: =+L12/O12 -> 1 | O12: 21628956301 | P12: =+O12/J12 -> 1 | Q12: =+J12-L12 -> 0 | R12: =+Q12/J12 -> 0
B13: 1.1 | C13: Ingresos Corrientes | D13: =+D14 -> 338414426395 | E13: =+E14 -> 125802762635 | F13: =+F14 -> 0 | G13: =+G14 -> 0 | H13: =+H14 -> 0 | I13: =+I14 -> 125802762635 | J13: =+J14 -> 464217189030 | K13: =+K14 -> 59800326017 | L13: =+L14 -> 386923768909 | M13: =+L13/J13 -> 0.83349729 | N13: =+L13/O13 -> 0.87883574 | O13: =+O14 -> 440268583916 | P13: =+O13/J13 -> 0.94841077 | Q13: =+Q14 -> 77293420121 | R13: =+Q13/J13 -> 0.16650271
B14: 1.1.02 | C14: Ingresos no tributarios | D14: =+D15+D20+D62 -> 338414426395 | E14: =+E15+E20+E62 -> 125802762635 | F14: =+F15+F20+F62 -> 0 | G14: =+G15+G20+G62 -> 0 | H14: =+H15+H20+H62 -> 0 | I14: =+I15+I20+I62 -> 125802762635 | J14: =+J15+J20+J62 -> 464217189030 | K14: =+K15+K20+K62 -> 59800326017 | L14: =+L15+L20+L62 -> 386923768909 | M14: =+L14/J14 -> 0.83349729 | N14: =+L14/O14 -> 0.87883574 | O14: =+O15+O20+O62 -> 440268583916 | P14: =+O14/J14 -> 0.94841077 | Q14: =+Q15+Q20+Q62 -> 77293420121 | R14: =+Q14/J14 -> 0.16650271
B15: 1.1.02.03 | C15: Multas sanciones e intereses de mora | D15: =+D16 -> 0 | E15: =+E16 -> 0 | F15: =+F16 -> 0 | G15: =+G16 -> 0 | H15: =+H16 -> 0 | I15: =+I16 -> 0 | J15: =+J16 -> 0 | K15: =+K16 -> 0 | L15: =+L16 -> 12450439 | M15: 1 | N15: =+L15/O15 -> 1 | O15: =+O16 -> 12450439 | P15: 1 | Q15: =+Q16 -> -12450439 | R15: 0
B16: 1.1.02.03.001 | C16: Multas y sanciones | D16: =+SUM(D17:D19) -> 0 | E16: =+SUM(E17:E19) -> 0 | F16: =+SUM(F17:F19) -> 0 | G16: =+SUM(G17:G19) -> 0 | H16: =+SUM(H17:H19) -> 0 | I16: =+SUM(I17:I19) -> 0 | J16: =+SUM(J17:J19) -> 0 | K16: =+SUM(K17:K19) -> 0 | L16: =+SUM(L17:L19) -> 12450439 | M16: 1 | N16: =+L16/O16 -> 1 | O16: =+SUM(O17:O19) -> 12450439 | P16: 1 | Q16: =+SUM(Q17:Q19) -> -12450439 | R16: 0
B17: 1.1.02.03.001.03 | C17: Sanciones disciplinarias | I17: 0 | J17: 0 | L17: 12450439 | M17: 1 | N17: =+L17/O17 -> 1 | O17: 12450439 | P17: 1 | Q17: =+J17-L17 -> -12450439 | R17: 0
B18: 1.1.02.03.001.04 | C18: Sanciones contractuales | I18: 0 | J18: 0 | M18: 0 | N18: 0 | O18: 0 | P18: 0 | Q18: =+J18-L18 -> 0 | R18: 0
B19: 1.1.02.03.001.05 | C19: Sanciones administrativas | I19: 0 | J19: 0 | M19: 0 | N19: 0 | O19: 0 | P19: 0 | Q19: =+J19-L19 -> 0 | R19: 0
B20: 1.1.02.05 | C20: Venta de bienes y servicio | D20: =+D21+D59 -> 328414426395 | E20: =+E21+E59 -> 103070951412 | F20: =+F21+F59 -> 0 | G20: =+G21+G59 -> 0 | H20: =+H21+H59 -> 0 | I20: =+I21+I59 -> 103070951412 | J20: =+J21+J59 -> 431485377807 | K20: =+K21+K59 -> 59800326017 | L20: =+L21+L59 -> 365432430130 | M20: =+L20/J20 -> 0.8469173 | N20: =+L20/O20 -> 0.87261768 | O20: =+O21+O59 -> 418777245137 | P20: =+O20/J20 -> 0.97054794 | Q20: =+Q21+Q59 -> 66052947677 | R20: =+Q20/J20 -> 0.1530827
B21: 1.1.02.05.001 | C21: Venta de establecimientos | D21: =+D22 -> 323996851073 | E21: =+E22 -> 103070951412 | F21: =+F22 -> 0 | G21: =+G22 -> 0 | H21: =+H22 -> 0 | I21: =+I22 -> 103070951412 | J21: =+J22 -> 427067802485 | K21: =+K22 -> 59800326017 | L21: =+L22 -> 365090618852 | M21: =+L21/J21 -> 0.85487741 | N21: =+L21/O21 -> 0.87251363 | O21: =+O22 -> 418435433859 | P21: =+O21/J21 -> 0.97978689 | Q21: =+Q22 -> 61977183633 | R21: =+Q21/J21 -> 0.14512259
B22: 1.1.02.05.001.09 | C22: Servicios para la comunida | D22: =+SUM(D23:D58) -> 323996851073 | E22: =+SUM(E23:E58) -> 103070951412 | F22: =+SUM(F23:F58) -> 0 | G22: =+SUM(G23:G58) -> 0 | H22: =+SUM(H23:H58) -> 0 | I22: =+SUM(I23:I58) -> 103070951412 | J22: =+SUM(J23:J58) -> 427067802485 | K22: =+SUM(K23:K58) -> 59800326017 | L22: =+SUM(L23:L58) -> 365090618852 | M22: =+L22/J22 -> 0.85487741 | N22: =+L22/O22 -> 0.87251363 | O22: =+SUM(O23:O58) -> 418435433859 | P22: =+O22/J22 -> 0.97978689 | Q22: =+SUM(Q23:Q58) -> 61977183633 | R22: =+Q22/J22 -> 0.14512259
B23: 1.1.02.05.001.09.01 | C23: Régimen contributivo | D23: 16771431734 | I23: 0 | J23: 16771431734 | K23: 2285409510 | L23: 14103159764 | M23: =+L23/J23 -> 0.84090375 | N23: =+L23/O23 -> 0.86054856 | O23: 16388569274 | P23: =+O23/J23 -> 0.97717175 | Q23: =+J23-L23 -> 2668271970 | R23: =+Q23/J23 -> 0.15909625 | T23: =+O23-K23-L23 -> 0
B24: 1.1.02.05.001.09.02 | C24: Vigencias anteriores - Régimen contributivo | D24: 610082079 | I24: 0 | J24: 610082079 | L24: 1979713676 | M24: =+L24/J24 -> 3.2449956 | N24: =+L24/O24 -> 1 | O24: 1979713676 | P24: =+O24/J24 -> 3.2449956 | Q24: =+J24-L24 -> -1369631597 | R24: =+Q24/J24 -> -2.2449956
B25: 1.1.02.05.001.09.03 | C25: Régimen Subsidiado | D25: 172284201630 | I25: 0 | J25: 172284201630 | K25: 38019353742 | L25: 142329666942 | M25: =+L25/J25 -> 0.82613302 | N25: =+L25/O25 -> 0.78919013 | O25: 180349020684 | P25: =+O25/J25 -> 1.0468111 | Q25: =+J25-L25 -> 29954534688 | R25: =+Q25/J25 -> 0.17386698 | T25: =+O25-K25-L25 -> 0
B26: 1.1.02.05.001.09.04 | C26: Vigencias anteriores -Régimen subsidiado | D26: 25835423151 | I26: 0 | J26: 25835423151 | K26: 6283491634 | L26: 19551931517 | M26: =+L26/J26 -> 0.75678774 | N26: =+L26/O26 -> 1 | O26: 19551931517 | P26: =+O26/J26 -> 0.75678774 | Q26: =+J26-L26 -> 6283491634 | R26: =+Q26/J26 -> 0.24321226
B27: 1.1.02.05.001.09.05 | C27: Particulares | D27: 1915951875 | I27: 0 | J27: 1915951875 | K27: 157422214 | L27: 1112900978 | M27: =+L27/J27 -> 0.58086061 | N27: =+L27/O27 -> 0.87607704 | O27: 1270323192 | P27: =+O27/J27 -> 0.66302458 | Q27: =+J27-L27 -> 803050897 | R27: =+Q27/J27 -> 0.41913939 | T27: =+O27-K27-L27 -> 0
B28: 1.1.02.05.001.09.06 | C28: Vigencias anteriores -Particulares | D28: 0 | I28: 0 | J28: 0 | L28: 62500095 | M28: 1 | N28: =+L28/O28 -> 1 | O28: 62500095 | P28: 1 | Q28: =+J28-L28 -> -62500095 | R28: 0
B29: 1.1.02.05.001.09.07 | C29: ECAT | D29: 1584651187 | I29: 0 | J29: 1584651187 | K29: 328424525 | L29: 565767641 | M29: =+L29/J29 -> 0.35702977 | N29: =+L29/O29 -> 0.63271371 | O29: 894192166 | P29: =+O29/J29 -> 0.56428328 | Q29: =+J29-L29 -> 1018883546 | R29: =+Q29/J29 -> 0.64297023 | T29: =+O29-K29-L29 -> 0
B30: 1.1.02.05.001.09.08 | C30: Vigencias anteriores - ECAT | D30: 412525245 | I30: 0 | J30: 412525245 | K30: 265728709 | L30: 146796536 | M30: =+L30/J30 -> 0.35584861 | N30: =+L30/O30 -> 1 | O30: 146796536 | P30: =+O30/J30 -> 0.35584861 | Q30: =+J30-L30 -> 265728709 | R30: =+Q30/J30 -> 0.64415139
B31: 1.1.02.05.001.09.09 | C31: ESE | D31: 0 | I31: 0 | J31: 0 | K31: 86418 | L31: 89124 | M31: 1 | N31: =+L31/O31 -> 0.50770756 | O31: 175542 | P31: 1 | Q31: =+J31-L31 -> -89124 | R31: 0 | T31: =+O31-K31-L31 -> 0
B32: 1.1.02.05.001.09.10 | C32: Vigencias anteriores - ESE | D32: 340836255 | I32: 0 | J32: 340836255 | K32: 340635915 | L32: 200340 | M32: =+L32/J32 -> 0.00058778958 | N32: =+L32/O32 -> 1 | O32: 200340 | P32: =+O32/J32 -> 0.00058778958 | Q32: =+J32-L32 -> 340635915 | R32: =+Q32/J32 -> 0.99941221
B33: 1.1.02.05.001.09.11 | C33: Riesgos profesionales | D33: 27659632 | I33: 0 | J33: 27659632 | K33: 21710610 | L33: 24255578 | M33: =+L33/J33 -> 0.87693061 | N33: =+L33/O33 -> 0.52768304 | O33: 45966188 | P33: =+O33/J33 -> 1.661851 | Q33: =+J33-L33 -> 3404054 | R33: =+Q33/J33 -> 0.12306939 | T33: =+O33-K33-L33 -> 0
B34: 1.1.02.05.001.09.12 | C34: Vigencias anteriores - Riesgos profesionales | D34: 4819296 | I34: 0 | J34: 4819296 | L34: 4990664 | M34: =+L34/J34 -> 1.0355587 | N34: =+L34/O34 -> 1 | O34: 4990664 | P34: =+O34/J34 -> 1.0355587 | Q34: =+J34-L34 -> -171368 | R34: =+Q34/J34 -> -0.035558721
B35: 1.1.02.05.001.09.13 | C35: Cuotas de recuperación | D35: 57998488 | I35: 0 | J35: 57998488 | K35: 17091134 | L35: 6139880 | M35: =+L35/J35 -> 0.10586276 | N35: =+L35/O35 -> 0.26429669 | O35: 23231014 | P35: =+O35/J35 -> 0.40054517 | Q35: =+J35-L35 -> 51858608 | R35: =+Q35/J35 -> 0.89413724 | T35: =+O35-K35-L35 -> 0
B36: 1.1.02.05.001.09.14 | C36: Vigencias anteriores - Cuotas de recuperación | D36: 0 | I36: 0 | J36: 0 | L36: 188962 | M36: 1 | N36: =+L36/O36 -> 1 | O36: 188962 | P36: 1 | Q36: =+J36-L36 -> -188962 | R36: 0
B37: 1.1.02.05.001.09.15 | C37: FOSYGA | D37: 777650496 | I37: 0 | J37: 777650496 | K37: 834180818 | L37: 34169141 | M37: =+L37/J37 -> 0.043938943 | N37: =+L37/O37 -> 0.039349505 | O37: 868349959 | P37: =+O37/J37 -> 1.1166327 | Q37: =+J37-L37 -> 743481355 | R37: =+Q37/J37 -> 0.95606106 | T37: =+O37-K37-L37 -> 0
B38: 1.1.02.05.001.09.16 | C38: Vigencias anteriores - FOSYGA | D38: 87757839 | I38: 0 | J38: 87757839 | K38: 25448497 | L38: 62309342 | M38: =+L38/J38 -> 0.71001454 | N38: =+L38/O38 -> 1 | O38: 62309342 | P38: =+O38/J38 -> 0.71001454 | Q38: =+J38-L38 -> 25448497 | R38: =+Q38/J38 -> 0.28998546
B39: 1.1.02.05.001.09.17 | C39: Vinculados | D39: 7257283761 | I39: 0 | J39: 7257283761 | K39: 150280906 | L39: 4250410067 | M39: =+L39/J39 -> 0.58567506 | N39: =+L39/O39 -> 0.96585061 | O39: 4400690973 | P39: =+O39/J39 -> 0.60638265 | Q39: =+J39-L39 -> 3006873694 | R39: =+Q39/J39 -> 0.41432494 | T39: =+O39-K39-L39 -> 0
B40: 1.1.02.05.001.09.18 | C40: Vigencias anteriores - Vinculados | D40: 79322462 | I40: 0 | J40: 79322462 | K40: 69966963 | L40: 9355499 | M40: =+L40/J40 -> 0.11794262 | N40: =+L40/O40 -> 1 | O40: 9355499 | P40: =+O40/J40 -> 0.11794262 | Q40: =+J40-L40 -> 69966963 | R40: =+Q40/J40 -> 0.88205738
B41: 1.1.02.05.001.09.19 | C41: Proyectos plan integral de intervenciones colectivas | D41: 22065643133 | I41: 0 | J41: 22065643133 | L41: 27436119671 | M41: =+L41/J41 -> 1.2433864 | N41: =+L41/O41 -> 1 | O41: 27436119671 | P41: =+O41/J41 -> 1.2433864 | Q41: =+J41-L41 -> -5370476538 | R41: =+Q41/J41 -> -0.24338636 | T41: =+O41-K41-L41 -> 0
B42: 1.1.02.05.001.09.20 | C42: Vigencias anteriores - Proyectos plan integral de intervenciones colectivas | D42: 0 | I42: 0 | J42: 0 | L42: 1072234541 | M42: 1 | N42: =+L42/O42 -> 1 | O42: 1072234541 | P42: 1 | Q42: =+J42-L42 -> -1072234541 | R42: 0
B43: 1.1.02.05.001.09.21 | C43: Copagos | D43: 2759056551 | I43: 0 | J43: 2759056551 | K43: 530592935 | L43: 1925362712 | M43: =+L43/J43 -> 0.69783373 | N43: =+L43/O43 -> 0.78395663 | O43: 2455955647 | P43: =+O43/J43 -> 0.89014328 | Q43: =+J43-L43 -> 833693839 | R43: =+Q43/J43 -> 0.30216627 | T43: =+O43-K43-L43 -> 0
B44: 1.1.02.05.001.09.22 | C44: Vigencias anteriores - Copagos | D44: 0 | I44: 0 | J44: 0 | L44: 129202577 | M44: 1 | N44: =+L44/O44 -> 1 | O44: 129202577 | P44: 1 | Q44: =+J44-L44 -> -129202577 | R44: 0
B45: 1.1.02.05.001.09.23 | C45: Vinculados departamento | D45: 4738562728 | I45: 0 | J45: 4738562728 | K45: 1239680709 | L45: 778124360 | M45: =+L45/J45 -> 0.16421105 | N45: =+L45/O45 -> 0.3856291 | O45: 2017805069 | P45: =+O45/J45 -> 0.42582639 | Q45: =+J45-L45 -> 3960438368 | R45: =+Q45/J45 -> 0.83578895 | T45: =+O45-K45-L45 -> 0
...

Sheet Gtos-Diciembre
S2: =+R6+S6+T6 -> 0
B3: E.S.E METROSALUD | P3: =+P9-R6 -> 388861378050 | Q3: =+Q9-S6 -> 83123445612 | R3: =+T6-R9 -> 0 | S3: =+U6-S9 -> -29062855960 | T3: =+#REF!-T9 -> #REF!
B4: EJECUCION PRESUPUESTAL DE GASTOS | D4: EJECUCION PRESUPUESTAL DE GASTOS
B5: 31 DE DICIEMBRE DE 2023
B7: Rubro | C7: Detalle Rubro | D7: Presupuesto Inicial | E7: Modificaciones | J7: Presupuesto Definitivo | K7: Disponibili-dades Expedidas | L7: Ejecutado | P7: Pagos | Q7: Cuentas por Pagar | R7: Saldos
E8: Adiciones | F8: Reducciones | G8: - Débitos | H8: + Créditos | I8: Total Modifi-caciones | L8: Compromisos | N8: Pagos + Obligaciones | R8: Disponibilidad | S8: Rubro | T8: Compromisos
B9: 2. | C9: GASTOS | D9: =+D10+D116+D119+D144 -> 369615960685 | E9: =+E10+E116+E119+E144 -> 131431718936 | F9: =+F10+F116+F119+F144 -> 0 | G9: =+G10+G116+G119+G144 -> 200886882041 | H9: =+H10+H116+H119+H144 -> 200886882041 | I9: =+I10+I116+I119+I144 -> 131431718936 | J9: =+J10+J116+J119+J144 -> 501047679621 | K9: =+K10+K116+K119+K144 -> 471984823662 | L9: =+L10+L116+L119+L144 -> 471984823662 | M9: =+L9/J9 -> 0.94199583 | N9: =+N10+N116+N119+N144 -> 471984823662 | O9: =+N9/J9 -> 0.94199583 | P9: =+P10+P116+P119+P144 -> 388861378050 | Q9: =+Q10+Q116+Q119+Q144 -> 83123445612 | R9: =+R10+R116+R119+R144 -> 0 | S9: =+S10+S116+S119+S144 -> 29062855960 | T9: =+T10+T116+T119+T144 -> 0 | U9: =+J9-K9-S9 -> -1
B10: 2.1 | C10: Gastos de Funcionamiento | D10: =+D11+D57+D87+D96+D99+D102 -> 302199921749 | E10: =+E11+E57+E87+E96+E99+E102 -> 109731718936 | F10: =+F11+F57+F87+F96+F99+F102 -> 0 | G10: =+G11+G57+G87+G96+G99+G102 -> 194271742817 | H10: =+H11+H57+H87+H96+H99+H102 -> 196271742817 | I10: =+I11+I57+I87+I96+I99+I102 -> 111731718936 | J10: =+J11+J57+J87+J96+J99+J102 -> 413931640685 | K10: =+K11+K57+K87+K96+K99+K102 -> 392326142803 | L10: =+L11+L57+L87+L96+L99+L102 -> 392326142803 | M10: =+L10/J10 -> 0.94780419 | N10: =+N11+N57+N87+N96+N99+N102 -> 392326142803 | O10: =+N10/J10 -> 0.94780419 | P10: =+P11+P57+P87+P96+P99+P102 -> 343227046888 | Q10: =+Q11+Q57+Q87+Q96+Q99+Q102 -> 49099095915 | R10: =+R11+R57+R87+R96+R99+R102 -> 0 | S10: =+S11+S57+S87+S96+S99+S102 -> 21605497883 | T10: =+T11+T57+T87+T96+T99+T102 -> 0 | U10: =+J10-K10-S10 -> -1
B11: 2.1.1 | C11: Gastos de personal | D11: =+D12 -> 178189599906 | E11: =+E12 -> 0 | F11: =+F12 -> 0 | G11: =+G12 -> 70223477325 | H11: =+H12 -> 69847318287 | I11: =+I12 -> -376159038 | J11: =+J12 -> 177813440868 | K11: =+K12 -> 174204047307 | L11: =+L12 -> 174204047307 | M11: =+L11/J11 -> 0.97970123 | N11: =+N12 -> 174204047307 | O11: =+N11/J11 -> 0.97970123 | P11: =+P12 -> 170328519648 | Q11: =+Q12 -> 3875527659 | R11: =+R12 -> 0 | S11: =+S12 -> 3609393561 | T11: =+T12 -> 0 | U11: =+J11-K11-S11 -> 0
B12: 2.1.1.01 | C12: Planta de personal permane | D12: =+D13+D27+D35 -> 178189599906 | E12: =+E13+E27+E35 -> 0 | F12: =+F13+F27+F35 -> 0 | G12: =+G13+G27+G35 -> 70223477325 | H12: =+H13+H27+H35 -> 69847318287 | I12: =+I13+I27+I35 -> -376159038 | J12: =+J13+J27+J35 -> 177813440868 | K12: =+K13+K27+K35 -> 174204047307 | L12: =+L13+L27+L35 -> 174204047307 | M12: =+L12/J12 -> 0.97970123 | N12: =+N13+N27+N35 -> 174204047307 | O12: =+N12/J12 -> 0.97970123 | P12: =+P13+P27+P35 -> 170328519648 | Q12: =+Q13+Q27+Q35 -> 3875527659 | R12: =+R13+R27+R35 -> 0 | S12: =+S13+S27+S35 -> 3609393561 | T12: =+T13+T27+T35 -> 0 | U12: =+J12-K12-S12 -> 0
B13: 2.1.1.01.01 | C13: Factores constitutivos de | D13: =+D14+D24 -> 127876057957 | E13: =+E14+E24 -> 0 | F13: =+F14+F24 -> 0 | G13: =+G14+G24 -> 61244784877 | H13: =+H14+H24 -> 60223000000 | I13: =+I14+I24 -> -1021784877 | J13: =+J14+J24 -> 126854273080 | K13: =+K14+K24 -> 125278346844 | L13: =+L14+L24 -> 125278346844 | M13: =+L13/J13 -> 0.98757688 | N13: =+N14+N24 -> 125278346844 | O13: =+N13/J13 -> 0.98757688 | P13: =+P14+P24 -> 124843408714 | Q13: =+Q14+Q24 -> 434938130 | R13: =+R14+R24 -> 0 | S13: =+S14+S24 -> 1575926236 | T13: =+T14+T24 -> 0 | U13: =+J13-K13-S13 -> 0
B14: 2.1.1.01.01.001 | C14: Factores salariales comune | D14: =+SUM(D15:D21) -> 127873400746 | E14: =+SUM(E15:E21) -> 0 | F14: =+SUM(F15:F21) -> 0 | G14: =+SUM(G15:G21) -> 61244784877 | H14: =+SUM(H15:H21) -> 60219000000 | I14: =+SUM(I15:I21) -> -1025784877 | J14: =+SUM(J15:J21) -> 126847615869 | K14: =+SUM(K15:K21) -> 125272583162 | L14: =+SUM(L15:L21) -> 125272583162 | M14: =+L14/J14 -> 0.98758327 | N14: =+SUM(N15:N21) -> 125272583162 | O14: =+N14/J14 -> 0.98758327 | P14: =+SUM(P15:P21) -> 124837645032 | Q14: =+SUM(Q15:Q21) -> 434938130 | R14: =+SUM(R15:R21) -> 0 | S14: =+SUM(S15:S21) -> 1575032707 | T14: =+SUM(T15:T21) -> 0 | U14: =+J14-K14-S14 -> 0
B15: 2.1.1.01.01.001.01 | C15: Sueldo básico | D15: 99109805496 | G15: 55144784877 | H15: 53500000000 | I15: =+E15-F15-G15+H15 -> -1644784877 | J15: =+D15+E15-G15+H15 -> 97465020619 | K15: =+L15 -> 96958149361 | L15: =+N15 -> 96958149361 | M15: =+L15/J15 -> 0.99479945 | N15: =+P15+Q15 -> 96958149361 | O15: =+N15/J15 -> 0.99479945 | P15: 96826618577 | Q15: 131530784 | S15: 506871258 | U15: =+J15-K15-S15 -> 0
B16: 2.1.1.01.01.001.02 | C16: Horas extras dominicales | D16: 7434528019 | H16: 529000000 | I16: =+E16-F16-G16+H16 -> 529000000 | J16: =+D16+E16-G16+H16 -> 7963528019 | K16: =+L16 -> 7906500107 | L16: =+N16 -> 7906500107 | M16: =+L16/J16 -> 0.99283886 | N16: =+P16+Q16 -> 7906500107 | O16: =+N16/J16 -> 0.99283886 | P16: 7896073351 | Q16: 10426756 | S16: 57027912 | U16: =+J16-K16-S16 -> 0
B17: 2.1.1.01.01.001.04 | C17: Subsidio de alimentación | D17: 277830491 | I17: =+E17-F17-G17+H17 -> 0 | J17: =+D17+E17-G17+H17 -> 277830491 | K17: =+L17 -> 235067349 | L17: =+N17 -> 235067349 | M17: =+L17/J17 -> 0.8460819 | N17: =+P17+Q17 -> 235067349 | O17: =+N17/J17 -> 0.8460819 | P17: 235067349 | S17: 42763142 | U17: =+J17-K17-S17 -> 0
B18: 2.1.1.01.01.001.05 | C18: Auxilio de transporte | D18: 170951269 | H18: 290000000 | I18: =+E18-F18-G18+H18 -> 290000000 | J18: =+D18+E18-G18+H18 -> 460951269 | K18: =+L18 -> 310554986 | L18: =+N18 -> 310554986 | M18: =+L18/J18 -> 0.67372628 | N18: =+P18+Q18 -> 310554986 | O18: =+N18/J18 -> 0.67372628 | P18: 310554986 | S18: 150396283 | U18: =+J18-K18-S18 -> 0
B19: 2.1.1.01.01.001.06 | C19: Prima de servicios | D19: 4239177130 | I19: =+E19-F19-G19+H19 -> 0 | J19: =+D19+E19-G19+H19 -> 4239177130 | K19: =+L19 -> 3887113128 | L19: =+N19 -> 3887113128 | M19: =+L19/J19 -> 0.91694992 | N19: =+P19+Q19 -> 3887113128 | O19: =+N19/J19 -> 0.91694992 | P19: 3850882338 | Q19: 36230790 | S19: 352064002 | U19: =+J19-K19-S19 -> 0
B20: 2.1.1.01.01.001.07 | C20: Bonificación por servicios | D20: 2800957626 | I20: =+E20-F20-G20+H20 -> 0 | J20: =+D20+E20-G20+H20 -> 2800957626 | K20: =+L20 -> 2644801412 | L20: =+N20 -> 2644801412 | M20: =+L20/J20 -> 0.94424899 | N20: =+P20+Q20 -> 2644801412 | O20: =+N20/J20 -> 0.94424899 | P20: 2607177115 | Q20: 37624297 | S20: 156156214 | U20: =+J20-K20-S20 -> 0
B21: 2.1.1.01.01.001.08 | C21: Prestaciones sociales | D21: =+SUM(D22:D23) -> 13840150715 | E21: =+SUM(E22:E23) -> 0 | F21: =+SUM(F22:F23) -> 0 | G21: =+SUM(G22:G23) -> 6100000000 | H21: =+SUM(H22:H23) -> 5900000000 | I21: =+SUM(I22:I23) -> -200000000 | J21: =+SUM(J22:J23) -> 13640150715 | K21: =+SUM(K22:K23) -> 13330396819 | L21: =+SUM(L22:L23) -> 13330396819 | M21: =+L21/J21 -> 0.97729102 | N21: =+SUM(N22:N23) -> 13330396819 | O21: =+N21/J21 -> 0.97729102 | P21: =+SUM(P22:P23) -> 13111271316 | Q21: =+SUM(Q22:Q23) -> 219125503 | R21: =+SUM(R22:R23) -> 0 | S21: =+SUM(S22:S23) -> 309753896 | T21: =+SUM(T22:T23) -> 0 | U21: =+J21-K21-S21 -> 0
B22: 2.1.1.01.01.001.08.01 | C22: Prima de navidad | D22: 9274897784 | G22: 6100000000 | H22: 5900000000 | I22: =+E22-F22-G22+H22 -> -200000000 | J22: =+D22+E22-G22+H22 -> 9074897784 | K22: =+L22 -> 9024649038 | L22: =+N22 -> 9024649038 | M22: =+L22/J22 -> 0.99446289 | N22: =+P22+Q22 -> 9024649038 | O22: =+N22/J22 -> 0.99446289 | P22: 8876434786 | Q22: 148214252 | S22: 50248746 | U22: =+J22-K22-S22 -> 0
B23: 2.1.1.01.01.001.08.02 | C23: Prima de vacaciones | D23: 4565252931 | I23: =+E23-F23-G23+H23 -> 0 | J23: =+D23+E23-G23+H23 -> 4565252931 | K23: =+L23 -> 4305747781 | L23: =+N23 -> 4305747781 | M23: =+L23/J23 -> 0.94315646 | N23: =+P23+Q23 -> 4305747781 | O23: =+N23/J23 -> 0.94315646 | P23: 4234836530 | Q23: 70911251 | S23: 259505150 | U23: =+J23-K23-S23 -> 0
B24: 2.1.1.01.01.002 | C24: Factores salariales especi | D24: =+D25 -> 2657211 | E24: =+E25 -> 0 | F24: =+F25 -> 0 | G24: =+G25 -> 0 | H24: =+H25 -> 4000000 | I24: =+I25 -> 4000000 | J24: =+J25 -> 6657211 | K24: =+K25 -> 5763682 | L24: =+L25 -> 5763682 | M24: =+L24/J24 -> 0.86578028 | N24: =+N25 -> 5763682 | O24: =+N24/J24 -> 0.86578028 | P24: =+P25 -> 5763682 | Q24: =+Q25 -> 0 | R24: =+R25 -> 0 | S24: =+S25 -> 893529 | T24: =+T25 -> 0 | U24: =+J24-K24-S24 -> 0
B25: 2.1.1.01.01.002.12 | C25: Prima de antigüedad | D25: =+D26 -> 2657211 | E25: =+E26 -> 0 | F25: =+F26 -> 0 | G25: =+G26 -> 0 | H25: =+H26 -> 4000000 | I25: =+I26 -> 4000000 | J25: =+J26 -> 6657211 | K25: =+K26 -> 5763682 | L25: =+L26 -> 5763682 | M25: =+L25/J25 -> 0.86578028 | N25: =+N26 -> 5763682 | O25: =+N25/J25 -> 0.86578028 | P25: =+P26 -> 5763682 | Q25: =+Q26 -> 0 | R25: =+R26 -> 0 | S25: =+S26 -> 893529 | T25: =+T26 -> 0 | U25: =+J25-K25-S25 -> 0
B26: 2.1.1.01.01.002.12.01 | C26: Prima de antigüedad - Bene | D26: 2657211 | H26: 4000000 | I26: =+E26-F26-G26+H26 -> 4000000 | J26: =+D26+E26-G26+H26 -> 6657211 | K26: =+L26 -> 5763682 | L26: =+N26 -> 5763682 | M26: =+L26/J26 -> 0.86578028 | N26: =+P26+Q26 -> 5763682 | O26: =+N26/J26 -> 0.86578028 | P26: 5763682 | S26: 893529 | U26: =+J26-K26-S26 -> 0
B27: 2.1.1.01.02 | C27: Contribuciones inherentes | D27: =+SUM(D28:D34) -> 45330593088 | E27: =+SUM(E28:E34) -> 0 | F27: =+SUM(F28:F34) -> 0 | G27: =+SUM(G28:G34) -> 8291647639 | H27: =+SUM(H28:H34) -> 9521647000 | I27: =+SUM(I28:I34) -> 1229999361 | J27: =+SUM(J28:J34) -> 46560592449 | K27: =+SUM(K28:K34) -> 45339971461 | L27: =+SUM(L28:L34) -> 45339971461 | M27: =+L27/J27 -> 0.97378425 | N27: =+SUM(N28:N34) -> 45339971461 | O27: =+N27/J27 -> 0.97378425 | P27: =+SUM(P28:P34) -> 42108348106 | Q27: =+SUM(Q28:Q34) -> 3231623355 | R27: =+SUM(R28:R34) -> 0 | S27: =+SUM(S28:S34) -> 1220620988 | T27: =+SUM(T28:T34) -> 0 | U27: =+J27-K27-S27 -> 0
B28: 2.1.1.01.02.001 | C28: Aportes a la seguridad soc | D28: 13121434937 | G28: 4000000000 | H28: 5000000000 | I28: =+E28-F28-G28+H28 -> 1000000000 | J28: =+D28+E28-G28+H28 -> 14121434937 | K28: =+L28 -> 13869121638 | L28: =+N28 -> 13869121638 | M28: =+L28/J28 -> 0.9821326 | N28: =+P28+Q28 -> 13869121638 | O28: =+N28/J28 -> 0.9821326 | P28: 12739529500 | Q28: 1129592138 | S28: 252313299 | U28: =+J28-K28-S28 -> 0
B29: 2.1.1.01.02.002 | C29: Aportes a la seguridad soc | D29: 9294349747 | G29: 3000000000 | H29: 3814647000 | I29: =+E29-F29-G29+H29 -> 814647000 | J29: =+D29+E29-G29+H29 -> 10108996747 | K29: =+L29 -> 10084555696 | L29: =+N29 -> 10084555696 | M29: =+L29/J29 -> 0.99758225 | N29: =+P29+Q29 -> 10084555696 | O29: =+N29/J29 -> 0.99758225 | P29: 9265635358 | Q29: 818920338 | S29: 24441051 | U29: =+J29-K29-S29 -> 0
B30: 2.1.1.01.02.003 | C30: Aportes de Cesantías - ces | D30: 8580428579 | G30: 291647639 | I30: =+E30-F30-G30+H30 -> -291647639 | J30: =+D30+E30-G30+H30 -> 8288780940 | K30: =+L30 -> 8104515227 | L30: =+N30 -> 8104515227 | M30: =+L30/J30 -> 0.97776926 | N30: =+P30+Q30 -> 8104515227 | O30: =+N30/J30 -> 0.97776926 | P30: 7925572648 | Q30: 178942579 | S30: 184265713 | U30: =+J30-K30-S30 -> 0
B31: 2.1.1.01.02.004 | C31: Aportes a Cajas de compens | D31: 5214385536 | G31: 1000000000 | H31: 707000000 | I31: =+E31-F31-G31+H31 -> -293000000 | J31: =+D31+E31-G31+H31 -> 4921385536 | K31: =+L31 -> 4921146400 | L31: =+N31 -> 4921146400 | M31: =+L31/J31 -> 0.99995141 | N31: =+P31+Q31 -> 4921146400 | O31: =+N31/J31 -> 0.99995141 | P31: 4503149000 | Q31: 417997400 | S31: 239136 | U31: =+J31-K31-S31 -> 0
B32: 2.1.1.01.02.005 | C32: Aportes generales al siste | D32: 2602012369 | I32: =+E32-F32-G32+H32 -> 0 | J32: =+D32+E32-G32+H32 -> 2602012369 | K32: =+L32 -> 2208197800 | L32: =+N32 -> 2208197800 | M32: =+L32/J32 -> 0.84865 | N32: =+P32+Q32 -> 2208197800 | O32: =+N32/J32 -> 0.84865 | P32: 2044465700 | Q32: 163732100 | S32: 393814569 | U32: =+J32-K32-S32 -> 0
B33: 2.1.1.01.02.006 | C33: Aportes al ICBF | D33: 3910789152 | I33: =+E33-F33-G33+H33 -> 0 | J33: =+D33+E33-G33+H33 -> 3910789152 | K33: =+L33 -> 3691218800 | L33: =+N33 -> 3691218800 | M33: =+L33/J33 -> 0.94385523 | N33: =+P33+Q33 -> 3691218800 | O33: =+N33/J33 -> 0.94385523 | P33: 3377826700 | Q33: 313392100 | S33: 219570352 | U33: =+J33-K33-S33 -> 0
B34: 2.1.1.01.02.007 | C34: Aportes al Sena | D34: 2607192768 | I34: =+E34-F34-G34+H34 -> 0 | J34: =+D34+E34-G34+H34 -> 2607192768 | K34: =+L34 -> 2461215900 | L34: =+N34 -> 2461215900 | M34: =+L34/J34 -> 0.94400994 | N34: =+P34+Q34 -> 2461215900 | O34: =+N34/J34 -> 0.94400994 | P34: 2252169200 | Q34: 209046700 | S34: 145976868 | U34: =+J34-K34-S34 -> 0
B35: 2.1.1.01.03 | C35: Remuneraciones no constitu | D35: =+D36+D40+D54+D55+D56 -> 4982948861 | E35: =+E36+E40+E54+E55+E56 -> 0 | F35: =+F36+F40+F54+F55+F56 -> 0 | G35: =+G36+G40+G54+G55+G56 -> 687044809 | H35: =+H36+H40+H54+H55+H56 -> 102671287 | I35: =+I36+I40+I54+I55+I56 -> -584373522 | J35: =+J36+J40+J54+J55+J56 -> 4398575339 | K35: =+K36+K40+K54+K55+K56 -> 3585729002 | L35: =+L36+L40+L54+L55+L56 -> 3585729002 | M35: =+L35/J35 -> 0.81520236 | N35: =+N36+N40+N54+N55+N56 -> 3585729002 | O35: =+N35/J35 -> 0.81520236 | P35: =+P36+P40+P54+P55+P56 -> 3376762828 | Q35: =+Q36+Q40+Q54+Q55+Q56 -> 208966174 | R35: =+R36+R40+R54+R55+R56 -> 0 | S35: =+S36+S40+S54+S55+S56 -> 812846337 | T35: =+T36+T40+T54+T55+T56 -> 0 | U35: =+J35-K35-S35 -> 0
B36: 2.1.1.01.03.001 | C36: Prestaciones sociales | D36: =+SUM(D37:D39) -> 941918822 | E36: =+SUM(E37:E39) -> 0 | F36: =+SUM(F37:F39) -> 0 | G36: =+SUM(G37:G39) -> 387611042 | H36: =+SUM(H37:H39) -> 6471287 | I36: =+SUM(I37:I39) -> -381139755 | J36: =+SUM(J37:J39) -> 560779067 | K36: =+SUM(K37:K39) -> 528633713 | L36: =+SUM(L37:L39) -> 528633713 | M36: =+L36/J36 -> 0.94267733 | N36: =+SUM(N37:N39) -> 528633713 | O36: =+N36/J36 -> 0.94267733 | P36: =+SUM(P37:P39) -> 519703657 | Q36: =+SUM(Q37:Q39) -> 8930056 | R36: =+SUM(R37:R39) -> 0 | S36: =+SUM(S37:S39) -> 32145354 | T36: =+SUM(T37:T39) -> 0 | U36: =+J36-K36-S36 -> 0
B37: 2.1.1.01.03.001.02 | C37: Indemnización por vacacion | D37: 385184279 | G37: 385184279 | I37: =+E37-F37-G37+H37 -> -385184279 | J37: =+D37+E37-G37+H37 -> 0 | K37: =+L37 -> 0 | L37: =+N37 -> 0 | M37: =+L37/J37 -> #DIV/0! | N37: =+P37+Q37 -> 0 | O37: =+N37/J37 -> #DIV/0! | U37: =+J37-K37-S37 -> 0
B38: 2.1.1.01.03.001.03 | C38: Bonificación especial por | D38: 556734543 | G38: 2426763 | I38: =+E38-F38-G38+H38 -> -2426763 | J38: =+D38+E38-G38+H38 -> 554307780 | K38: =+L38 -> 523526213 | L38: =+N38 -> 523526213 | M38: =+L38/J38 -> 0.94446846 | N38: =+P38+Q38 -> 523526213 | O38: =+N38/J38 -> 0.94446846 | P38: 514596157 | Q38: 8930056 | S38: 30781567 | U38: =+J38-K38-S38 -> 0
B39: 2.1.1.01.03.001.04 | C39: Subsidio familiar | D39: 0 | H39: 6471287 | I39: =+E39-F39-G39+H39 -> 6471287 | J39: =+D39+E39-G39+H39 -> 6471287 | K39: =+L39 -> 5107500 | L39: =+N39 -> 5107500 | M39: =+L39/J39 -> 0.78925568 | N39: =+P39+Q39 -> 5107500 | O39: =+N39/J39 -> 0.78925568 | P39: 5107500 | S39: 1363787 | U39: =+J39-K39-S39 -> 0
B40: 2.1.1.01.03.020 | C40: Estímulos a los empleados | D40: =+SUM(D41:D53) -> 3562508601 | E40: =+SUM(E41:E53) -> 0 | F40: =+SUM(F41:F53) -> 0 | G40: =+SUM(G41:G53) -> 299433767 | H40: =+SUM(H41:H53) -> 86000000 | I40: =+SUM(I41:I53) -> -213433767 | J40: =+SUM(J41:J53) -> 3349074834 | K40: =+SUM(K41:K53) -> 2575021779 | L40: =+SUM(L41:L53) -> 2575021779 | M40: =+L40/J40 -> 0.76887556 | N40: =+SUM(N41:N53) -> 2575021779 | O40: =+N40/J40 -> 0.76887556 | P40: =+SUM(P41:P53) -> 2375500772 | Q40: =+SUM(Q41:Q53) -> 199521007 | R40: =+SUM(R41:R53) -> 0 | S40: =+SUM(S41:S53) -> 774053055 | T40: =+SUM(T41:T53) -> 0 | U40: =+J40-K40-S40 -> 0
B41: 2.1.1.01.03.020.02 | C41: Prima especial para trabaj | D41: 251212773 | H41: 10000000 | I41: =+E41-F41-G41+H41 -> 10000000 | J41: =+D41+E41-G41+H41 -> 261212773 | K41: =+L41 -> 252536108 | L41: =+N41 -> 252536108 | M41: =+L41/J41 -> 0.96678315 | N41: =+P41+Q41 -> 252536108 | O41: =+N41/J41 -> 0.96678315 | P41: 251861922 | Q41: 674186 | S41: 8676665 | U41: =+J41-K41-S41 -> 0
B42: 2.1.1.01.03.020.03 | C42: Prima de educación para tr | D42: 39966100 | I42: =+E42-F42-G42+H42 -> 0 | J42: =+D42+E42-G42+H42 -> 39966100 | K42: =+L42 -> 11624950 | L42: =+N42 -> 11624950 | M42: =+L42/J42 -> 0.29087026 | N42: =+P42+Q42 -> 11624950 | O42: =+N42/J42 -> 0.29087026 | P42: 11624950 | S42: 28341150 | U42: =+J42-K42-S42 -> 0
...

Sheet Equilibrio
C1: Diciembre 2023 | D1: Diciembre 2022 | F1: Variación
B3: Detalle | C3: 2023 | D3: 2022
B4: (+) Ingresos Recaudados | C4: =+'Ing-Diciembre'!L11 -> 4.2062407e+11 | D4: 4.3053835e+11 | F4: =+C4-D4 -> -9.9142826e+09 | G4: =+F4/D4 -> -0.023027641
B5: ( / ) Gastos Ejecutados (Pagos + Obligaciones) | C5: =+'Gtos-Diciembre'!L9 -> 471984823662 | D5: 423577832951 | F5: =+C5-D5 -> 48406990711 | G5: =+F5/D5 -> 0.11428122
B6: (=) Indicador de Equilibrio Presupuestal | C6: =+C4/C5 -> 0.89118135 | D6: =+D4/D5 -> 1.0164327 | E6: =+E4/E5 -> #DIV/0! | F6: =+F4/F5 -> -0.20481097
B8: Equilibrio Presupuestal - Recaudo | C8: =+C4-C5 -> -5.1360753e+10 | D8: =+D4-D5 -> 6.96052e+09 | E8: =+E4-E5 -> 0 | F8: =+F4-F5 -> -5.8321273e+10
B12: Detalle | C12: 2023 | D12: 2022
B13: (+) Ingresos Reconocido | C13: =+'Ing-Diciembre'!O11 -> 4.7396889e+11 | D13: 4.7107423e+11 | F13: =+C13-D13 -> 2.8946535e+09 | G13: =+F13/D13 -> 0.0061447927
B14: ( / ) Gastos Ejecutados (Compromisos) | C14: =+'Gtos-Diciembre'!L9 -> 471984823662 | D14: 423577832951 | F14: =+C14-D14 -> 48406990711 | G14: =+F14/D14 -> 0.11428122
B15: (=) Indicador de Equilibrio Presupuestal-Reconocido | C15: =+C13/C14 -> 1.0042037 | D15: =+D13/D14 -> 1.1121315 | E15: =+E13/E14 -> #DIV/0! | F15: =+F13/F14 -> 0.059798254
C17: =+C13-C14 -> 1.9840617e+09 | D17: =+D13-D14 -> 4.7496399e+10 | E17: =+E13-E14 -> 0 | F17: =+F13-F14 -> -4.5512337e+10
C21: 2023 | D21: 2022
B22: Ingresos recaudados a 31 de Diciembre de 2023 | C22: =+'Ing-Diciembre'!L11 -> 4.2062407e+11 | D22: 4.3053835e+11 | F22: =+C22-D22 -> -9.9142826e+09 | G22: =+F22/D22 -> -0.023027641
B23: Pagos realizados a 31 de Diciembre de 2023 | C23: =+'Gtos-Diciembre'!P9 -> 388861378050 | D23: 383772847589 | F23: =+C23-D23 -> 5088530461 | G23: =+F23/D23 -> 0.013259225
B24: PAC mes de Diciembre | C24: =+C22-C23 -> 3.1762692e+10 | D24: =+D22-D23 -> 4.6765505e+10 | E24: =+E22-E23 -> 0 | F24: =+F22-F23 -> -1.5002813e+10 | G24: =+F24/D24 -> -0.32080939
B25: % Ejecución PAC mes de Diciembre | C25: =+C22/C23 -> 1.0816813 | D25: =+D22/D23 -> 1.1218573 | E25: =+E22/E23 -> #DIV/0! | F25: =+F22/F23 -> -1.9483587

Sheet Transferencias
B2: Vigencia | C2: Valor convenio | D2: Convenio | E2: Recaudo
B4: 2023 | C4: 50000000 | D4: Desempeño CISAMF - 4600096023-Adición 1 | E4: 50000000
C5: 25000000 | D5: Desempeño CISAMF - 4600096023-Adición 1 | E5: 25000000
C6: 25000000 | D6: Desempeño CISAMF - 4600096023-Adición 1 | E6: 25000000
C7: 25000000 | D7: Desempeño CISAMF - 4600096023-Adición 1 | E7: 25000000
C8: 217070994 | D8: Desempeño CISAMF - 4600096023-Adición 1 | E8: 217070994
C9: 3500000000 | D9: Desempeño - 4600098295 | E9: 3500000000
C10: 1750000000 | D10: Desempeño - 4600098295-Adición 1 | E10: 1750000000
C11: 5000000000 | D11: Desempeño - 4600098697 | E11: 5000000000
C12: 1750000000 | D12: Desempeño - 4600098697-Adición 1 | E12: 1750000000
C13: 326693092 | D13: Desempeño RIAS - 4600094671-Adición-1 | E13: 326693092
C14: 257863080 | D14: Desempeño RIAS - 4600094671-Adición-1 | E14: 257863080
C15: 173105560 | D15: Desempeño RIAS - 4600094671-Adición-1 | E15: 173105560
C16: 8379155614 | D16: Mantenimiento de la infraestructura 4600096224 | E16: 8379155614
C17: =SUM(C4:C16) -> 21478888340 | D17: Recaudos | E17: =SUM(E4:E16) -> 21478888340 | F17: Ok
B18: 2022 | C18: 3311500682 | D18: 4600096090-2022-Dotación buenos aires | E18: 3311500682
C19: 9041154927 | D19: 4600096090-2022-Dotación buenos aires | E19: 9041154927
C20: 250000000 | D20: 4600096023-2022-CISAM | E20: 250000000
C21: 1114494032 | D21: 4600094671-2022-Fortalecimiento compartido 4 componentes | E21: 1114494032
C22: 6075180540 | D22: 4600094671-2022-Fortalecimiento compartido 4 componentes | E22: 6075180540 | F22: Materno perinatal | G22: 1172870773
C23: 340000000 | D23: 4600094671-2022-Fortalecimiento compartido 4 componentes | E23: 340000000 | F23: Salud mental | G23: 852309767
C24: 340000000 | D24: 4600094671-2022-Fortalecimiento compartido 4 componentes | E24: 340000000 | F24: RIAS-Adicion -1 | G24: 1086235081
C25: 340000000 | D25: 4600094671-2022-Fortalecimiento compartido 4 componentes | E25: 340000000 | F25: Salud mental -Adición 1 | G25: 170000000
C26: 6000000000 | D26: 4600094671-2022-Fortalecimiento compartido 4 componentes | E26: 6000000000 | F26: Apoyo financiero | G26: 11750000000
C27: 3250000000 | D27: 4600091350-2021 Adicion 2-Fortalecimiento gestion financiera | E27: 3250000000
C28: 8097487346 | D28: 4600096204-2022-Desempeño gestion financiera | E28: 8097487346
C29: =SUM(C18:C34) -> 38228278644 | D29: Recaudos | E29: =SUM(E18:E34) -> 38228278644 | F29: Ok
B30: 2021 | C30: =+E30 -> 5000000000 | D30: Convenio desempeño 4600090070-2021 | E30: 5000000000
C31: =+E31 -> 2500000000 | D31: Convenio desempeño 4600090070-2021 Adición | E31: 2500000000
C32: =+E32 -> 8500000000 | D32: Convenio desempeño 4600091350-2021 | E32: 8500000000
C33: 3000000000 | D33: Convenio desempeño 4600091920-2021 | E33: 3000000000
C34: 68461117 | D34: Asignación y transferencia de recursos para la implementación del Programa de Atención Psicosocial y Salud Integral a las Víctimas “PAPSIVI” de acuerdo a la Resolución 1739 de 2022 | E34: 67141648
C35: =SUM(C30:C33) -> 19000000000 | D35: Recaudos | E35: =SUM(E30:E34) -> 19067141648 | F35: Ok
B36: 2020 | C36: 7000000000 | D36: Convenio de desempeño 4600085245 | E36: 7000000000
C37: 3726901040 | D37: Convenio de desempeño 4600085534 | E37: 3726901040
C38: 3500000000 | D38: Convenio de desempeño 4600085534 - Adición 1 | E38: 3500000000
C39: 4264292000 | D39: Ministerio de Salud y protección Social - Resolución 753 del 14 de mayo de 2020 | E39: 4264292000
C40: 4712133000 | D40: Ministerio de Salud y protección Social - Resolución 0002017 del 09 de noviembre de 2020 | E40: 4712133000
C41: 2642249410 | D41: Convenio DSSSA - 4600010519 realizar el apoyo a la Vigilancia Epidemiologica para la emergencia en salud pública de interés internacional | E41: 1056899764
C42: =SUM(C36:C41) -> 25845575450 | D42: Recaudos | E42: =SUM(E36:E41) -> 24260225804 | F42: Ok
...
